BEGIN:VCALENDAR
VERSION:2.0
PRODID:icalendar-ruby
CALSCALE:GREGORIAN
METHOD:PUBLISH
BEGIN:VEVENT
DTSTAMP:20260424T173351Z
UID:8f48fb04-0075-4488-a0e4-8bd0e3337835
DTSTART:20260201T160000
DTEND:20260202T020000
DESCRIPTION:<p>After an 11-year hiatus\, Liquideep are back. Cape Town\, ti
 ckets are on sale now for a fairytale this February. </p><p>Sunday\, 1 Fe
 bruary 2026 </p><p>Cabo Beach\, Cape Town </p><p>LINEUP (A-Z)\;</p><p>DW
 SON</p><p>FKA MASH</p><p>KID FONQUE</p><p>KUDBEU</p><p>MILA-ROSE</p><p>VIN
 NY DA VINCI</p><p>Tickets & tables on sale now at ag.howler.co.za</p><p><s
 pan style="color: rgb(0\, 0\, 0)\;">For table booking inquiries email </s
 pan><a href="mailto:tables@anythinggoes.co.za?subject=1%20Feb%2C%20Liquide
 ep%20-%20Table%20Booking%20Request" target="_blank" style="color: rgb(0\, 
 0\, 0)\;">tables@anythinggoes.co.za</a></p><p><strong style="color: rgb(0\
 , 0\, 0)\;">This event is proudly presented by Anything Goes.</strong></p>
 <p><br></p><p><br></p>
LOCATION:12 South Arm RD\, Victoria & Alfred Waterfront\, Cape Town\, 8002
SUMMARY:Liquideep - Cape Town
URL;VALUE=URI:https://ag.howler.co.za/Liquideep1feb26
END:VEVENT
END:VCALENDAR
